BEGIN:VCALENDAR
VERSION:2.0
PRODID:-// - ECPv6.15.20//NONSGML v1.0//EN
CALSCALE:GREGORIAN
METHOD:PUBLISH
X-ORIGINAL-URL:https://oosternieland.nl
X-WR-CALDESC:Evenementen voor 
REFRESH-INTERVAL;VALUE=DURATION:PT1H
X-Robots-Tag:noindex
X-PUBLISHED-TTL:PT1H
BEGIN:VTIMEZONE
TZID:Europe/Amsterdam
BEGIN:DAYLIGHT
TZOFFSETFROM:+0100
TZOFFSETTO:+0200
TZNAME:CEST
DTSTART:20240331T010000
END:DAYLIGHT
BEGIN:STANDARD
TZOFFSETFROM:+0200
TZOFFSETTO:+0100
TZNAME:CET
DTSTART:20241027T010000
END:STANDARD
BEGIN:DAYLIGHT
TZOFFSETFROM:+0100
TZOFFSETTO:+0200
TZNAME:CEST
DTSTART:20250330T010000
END:DAYLIGHT
BEGIN:STANDARD
TZOFFSETFROM:+0200
TZOFFSETTO:+0100
TZNAME:CET
DTSTART:20251026T010000
END:STANDARD
BEGIN:DAYLIGHT
TZOFFSETFROM:+0100
TZOFFSETTO:+0200
TZNAME:CEST
DTSTART:20260329T010000
END:DAYLIGHT
BEGIN:STANDARD
TZOFFSETFROM:+0200
TZOFFSETTO:+0100
TZNAME:CET
DTSTART:20261025T010000
END:STANDARD
END:VTIMEZONE
BEGIN:VEVENT
DTSTART;TZID=Europe/Amsterdam:20251004T100000
DTEND;TZID=Europe/Amsterdam:20251004T130000
DTSTAMP:20260423T104014
CREATED:20250613T133852Z
LAST-MODIFIED:20250613T133852Z
UID:2636-1759572000-1759582800@oosternieland.nl
SUMMARY:Koffieochtend
DESCRIPTION:Kom gezellig naar het Dorpshuis\, voor (gratis) koffie\, thee of ranja
URL:https://oosternieland.nl/agenda/koffieochtend-12/
LOCATION:Dörpshoes Nijland\, Oosternielandsterweg 41\, Oosternieland\, Oosternieland\, 9985SB\, Nederland
END:VEVENT
BEGIN:VEVENT
DTSTART;TZID=Europe/Amsterdam:20251017T170000
DTEND;TZID=Europe/Amsterdam:20251017T200000
DTSTAMP:20260423T104014
CREATED:20250613T134020Z
LAST-MODIFIED:20250613T134020Z
UID:2640-1760720400-1760731200@oosternieland.nl
SUMMARY:VrijMiBo
DESCRIPTION:
URL:https://oosternieland.nl/agenda/vrijmibo-13/
LOCATION:Dörpshoes Nijland\, Oosternielandsterweg 41\, Oosternieland\, Oosternieland\, 9985SB\, Nederland
END:VEVENT
BEGIN:VEVENT
DTSTART;TZID=Europe/Amsterdam:20251018T190000
DTEND;TZID=Europe/Amsterdam:20251018T233000
DTSTAMP:20260423T104014
CREATED:20251006T125617Z
LAST-MODIFIED:20251006T125617Z
UID:2737-1760814000-1760830200@oosternieland.nl
SUMMARY:Verhuur
DESCRIPTION:
URL:https://oosternieland.nl/agenda/verhuur-7/
END:VEVENT
BEGIN:VEVENT
DTSTART;TZID=Europe/Amsterdam:20251021T110000
DTEND;TZID=Europe/Amsterdam:20251021T130000
DTSTAMP:20260423T104014
CREATED:20250613T133939Z
LAST-MODIFIED:20250620T131531Z
UID:2638-1761044400-1761051600@oosternieland.nl
SUMMARY:Visje eten
DESCRIPTION:
URL:https://oosternieland.nl/agenda/visje-eten-15/
LOCATION:Dörpshoes Nijland\, Oosternielandsterweg 41\, Oosternieland\, Oosternieland\, 9985SB\, Nederland
END:VEVENT
BEGIN:VEVENT
DTSTART;TZID=Europe/Amsterdam:20251021T193000
DTEND;TZID=Europe/Amsterdam:20251021T210000
DTSTAMP:20260423T104014
CREATED:20251014T081425Z
LAST-MODIFIED:20251014T081425Z
UID:2740-1761075000-1761080400@oosternieland.nl
SUMMARY:Teams afspraak J
DESCRIPTION:
URL:https://oosternieland.nl/agenda/teams-afspraak-j/
LOCATION:Dörpshoes Nijland\, Oosternielandsterweg 41\, Oosternieland\, Oosternieland\, 9985SB\, Nederland
END:VEVENT
BEGIN:VEVENT
DTSTART;TZID=Europe/Amsterdam:20251024T140000
DTEND;TZID=Europe/Amsterdam:20251024T163000
DTSTAMP:20260423T104014
CREATED:20250911T121642Z
LAST-MODIFIED:20250911T145225Z
UID:2725-1761314400-1761323400@oosternieland.nl
SUMMARY:knutselmiddag voor kinderen
DESCRIPTION:Kom je ook weer knutselen in het Dorpshuis ? \nWe beginnen om 2 uur.  Gratis entree \nHet duurt tot 4 uur
URL:https://oosternieland.nl/agenda/knutselmiddag-voor-kinderen/
LOCATION:Dörpshoes Nijland\, Oosternielandsterweg 41\, Oosternieland\, Oosternieland\, 9985SB\, Nederland
END:VEVENT
BEGIN:VEVENT
DTSTART;TZID=Europe/Amsterdam:20251027T193000
DTEND;TZID=Europe/Amsterdam:20251027T213000
DTSTAMP:20260423T104014
CREATED:20250902T152651Z
LAST-MODIFIED:20251014T081308Z
UID:2714-1761593400-1761600600@oosternieland.nl
SUMMARY:vergadering activiteiten commissie
DESCRIPTION:
URL:https://oosternieland.nl/agenda/vergadering-activiteiten-commissie-5/
LOCATION:Dörpshoes Nijland\, Oosternielandsterweg 41\, Oosternieland\, Oosternieland\, 9985SB\, Nederland
END:VEVENT
BEGIN:VEVENT
DTSTART;TZID=Europe/Amsterdam:20251030T110000
DTEND;TZID=Europe/Amsterdam:20251030T140000
DTSTAMP:20260423T104014
CREATED:20250922T180117Z
LAST-MODIFIED:20250922T180117Z
UID:2731-1761822000-1761832800@oosternieland.nl
SUMMARY:Verhuur
DESCRIPTION:
URL:https://oosternieland.nl/agenda/verhuur-5/
END:VEVENT
END:VCALENDAR