BEGIN:VCALENDAR
VERSION:2.0
PRODID:-// - ECPv6.15.20//NONSGML v1.0//EN
CALSCALE:GREGORIAN
METHOD:PUBLISH
X-ORIGINAL-URL:https://oosternieland.nl
X-WR-CALDESC:Evenementen voor 
REFRESH-INTERVAL;VALUE=DURATION:PT1H
X-Robots-Tag:noindex
X-PUBLISHED-TTL:PT1H
BEGIN:VTIMEZONE
TZID:Europe/Amsterdam
BEGIN:DAYLIGHT
TZOFFSETFROM:+0100
TZOFFSETTO:+0200
TZNAME:CEST
DTSTART:20240331T010000
END:DAYLIGHT
BEGIN:STANDARD
TZOFFSETFROM:+0200
TZOFFSETTO:+0100
TZNAME:CET
DTSTART:20241027T010000
END:STANDARD
BEGIN:DAYLIGHT
TZOFFSETFROM:+0100
TZOFFSETTO:+0200
TZNAME:CEST
DTSTART:20250330T010000
END:DAYLIGHT
BEGIN:STANDARD
TZOFFSETFROM:+0200
TZOFFSETTO:+0100
TZNAME:CET
DTSTART:20251026T010000
END:STANDARD
BEGIN:DAYLIGHT
TZOFFSETFROM:+0100
TZOFFSETTO:+0200
TZNAME:CEST
DTSTART:20260329T010000
END:DAYLIGHT
BEGIN:STANDARD
TZOFFSETFROM:+0200
TZOFFSETTO:+0100
TZNAME:CET
DTSTART:20261025T010000
END:STANDARD
END:VTIMEZONE
BEGIN:VEVENT
DTSTART;TZID=Europe/Amsterdam:20250901T193000
DTEND;TZID=Europe/Amsterdam:20250901T220000
DTSTAMP:20260423T120003
CREATED:20250821T095855Z
LAST-MODIFIED:20250821T095855Z
UID:2681-1756755000-1756764000@oosternieland.nl
SUMMARY:vergadering activiteiten commissie
DESCRIPTION:
URL:https://oosternieland.nl/agenda/vergadering-activiteiten-commissie-4/
LOCATION:Dörpshoes Nijland\, Oosternielandsterweg 41\, Oosternieland\, Oosternieland\, 9985SB\, Nederland
END:VEVENT
BEGIN:VEVENT
DTSTART;TZID=Europe/Amsterdam:20250906T080000
DTEND;TZID=Europe/Amsterdam:20250906T083000
DTSTAMP:20260423T120003
CREATED:20250616T203936Z
LAST-MODIFIED:20250616T203936Z
UID:2652-1757145600-1757147400@oosternieland.nl
SUMMARY:geen koffieochtend\, maar BBQ
DESCRIPTION:
URL:https://oosternieland.nl/agenda/geen-koffieochtend-maar-bbq/
LOCATION:Oosternieland
END:VEVENT
BEGIN:VEVENT
DTSTART;TZID=Europe/Amsterdam:20250906T170000
DTEND;TZID=Europe/Amsterdam:20250906T230000
DTSTAMP:20260423T120003
CREATED:20250616T203854Z
LAST-MODIFIED:20250616T203854Z
UID:2650-1757178000-1757199600@oosternieland.nl
SUMMARY:DorpsBBQ
DESCRIPTION:de jaarlijkse dorpsBBQ voor Oosternieland\, informatie over aanmelding volgt
URL:https://oosternieland.nl/agenda/dorpsbbq/
LOCATION:Dörpshoes Nijland\, Oosternielandsterweg 41\, Oosternieland\, Oosternieland\, 9985SB\, Nederland
END:VEVENT
BEGIN:VEVENT
DTSTART;TZID=Europe/Amsterdam:20250912T170000
DTEND;TZID=Europe/Amsterdam:20250912T233000
DTSTAMP:20260423T120003
CREATED:20250618T050452Z
LAST-MODIFIED:20250618T050452Z
UID:2658-1757696400-1757719800@oosternieland.nl
SUMMARY:Verhuur
DESCRIPTION:
URL:https://oosternieland.nl/agenda/verhuur/
LOCATION:Oosternieland
END:VEVENT
BEGIN:VEVENT
DTSTART;TZID=Europe/Amsterdam:20250913T120000
DTEND;TZID=Europe/Amsterdam:20250913T180000
DTSTAMP:20260423T120003
CREATED:20250825T071812Z
LAST-MODIFIED:20250825T072123Z
UID:2683-1757764800-1757786400@oosternieland.nl
SUMMARY:Verhuur
DESCRIPTION:
URL:https://oosternieland.nl/agenda/verhuur-2/
LOCATION:Oosternieland
END:VEVENT
BEGIN:VEVENT
DTSTART;TZID=Europe/Amsterdam:20250916T110000
DTEND;TZID=Europe/Amsterdam:20250916T130000
DTSTAMP:20260423T120003
CREATED:20250613T133501Z
LAST-MODIFIED:20250620T131706Z
UID:2632-1758020400-1758027600@oosternieland.nl
SUMMARY:Visje eten
DESCRIPTION:we beginnen om 11.00 uur met koffie en doen de bestelling\, daarna samen visje eten
URL:https://oosternieland.nl/agenda/visje-eten-14/
LOCATION:Dörpshoes Nijland\, Oosternielandsterweg 41\, Oosternieland\, Oosternieland\, 9985SB\, Nederland
END:VEVENT
BEGIN:VEVENT
DTSTART;TZID=Europe/Amsterdam:20250918T090000
DTEND;TZID=Europe/Amsterdam:20250918T170000
DTSTAMP:20260423T120003
CREATED:20250209T174027Z
LAST-MODIFIED:20250209T174027Z
UID:2391-1758186000-1758214800@oosternieland.nl
SUMMARY:Bezet
DESCRIPTION:
URL:https://oosternieland.nl/agenda/bezet-6/
LOCATION:Oosternieland
END:VEVENT
BEGIN:VEVENT
DTSTART;TZID=Europe/Amsterdam:20250919T170000
DTEND;TZID=Europe/Amsterdam:20250919T200000
DTSTAMP:20260423T120003
CREATED:20250613T133641Z
LAST-MODIFIED:20250613T133641Z
UID:2634-1758301200-1758312000@oosternieland.nl
SUMMARY:VrijMiBo
DESCRIPTION:vrijdagmiddagborrel! Welkom!
URL:https://oosternieland.nl/agenda/vrijmibo-12/
LOCATION:Dörpshoes Nijland\, Oosternielandsterweg 41\, Oosternieland\, Oosternieland\, 9985SB\, Nederland
END:VEVENT
BEGIN:VEVENT
DTSTART;TZID=Europe/Amsterdam:20250925T190000
DTEND;TZID=Europe/Amsterdam:20250925T213000
DTSTAMP:20260423T120003
CREATED:20250902T065942Z
LAST-MODIFIED:20250902T065942Z
UID:2701-1758826800-1758835800@oosternieland.nl
SUMMARY:Inloopavond deur-tot-deur-aanpak
DESCRIPTION:
URL:https://oosternieland.nl/agenda/inloopavond-deur-tot-deur-aanpak/
LOCATION:Oosternieland
END:VEVENT
END:VCALENDAR