BEGIN:VCALENDAR
VERSION:2.0
PRODID:-// - ECPv6.15.20//NONSGML v1.0//EN
CALSCALE:GREGORIAN
METHOD:PUBLISH
X-ORIGINAL-URL:https://oosternieland.nl
X-WR-CALDESC:Evenementen voor 
REFRESH-INTERVAL;VALUE=DURATION:PT1H
X-Robots-Tag:noindex
X-PUBLISHED-TTL:PT1H
BEGIN:VTIMEZONE
TZID:Europe/Amsterdam
BEGIN:DAYLIGHT
TZOFFSETFROM:+0100
TZOFFSETTO:+0200
TZNAME:CEST
DTSTART:20240331T010000
END:DAYLIGHT
BEGIN:STANDARD
TZOFFSETFROM:+0200
TZOFFSETTO:+0100
TZNAME:CET
DTSTART:20241027T010000
END:STANDARD
BEGIN:DAYLIGHT
TZOFFSETFROM:+0100
TZOFFSETTO:+0200
TZNAME:CEST
DTSTART:20250330T010000
END:DAYLIGHT
BEGIN:STANDARD
TZOFFSETFROM:+0200
TZOFFSETTO:+0100
TZNAME:CET
DTSTART:20251026T010000
END:STANDARD
BEGIN:DAYLIGHT
TZOFFSETFROM:+0100
TZOFFSETTO:+0200
TZNAME:CEST
DTSTART:20260329T010000
END:DAYLIGHT
BEGIN:STANDARD
TZOFFSETFROM:+0200
TZOFFSETTO:+0100
TZNAME:CET
DTSTART:20261025T010000
END:STANDARD
END:VTIMEZONE
BEGIN:VEVENT
DTSTART;TZID=Europe/Amsterdam:20250819T110000
DTEND;TZID=Europe/Amsterdam:20250819T130000
DTSTAMP:20260422T144133
CREATED:20250620T131041Z
LAST-MODIFIED:20250620T131041Z
UID:2665-1755601200-1755608400@oosternieland.nl
SUMMARY:Visje eten
DESCRIPTION:
URL:https://oosternieland.nl/agenda/visje-eten-17/
LOCATION:Dörpshoes Nijland\, Oosternielandsterweg 41\, Oosternieland\, Oosternieland\, 9985SB\, Nederland
END:VEVENT
BEGIN:VEVENT
DTSTART;TZID=Europe/Amsterdam:20250825T193000
DTEND;TZID=Europe/Amsterdam:20250825T223000
DTSTAMP:20260422T144133
CREATED:20250616T203717Z
LAST-MODIFIED:20250821T095814Z
UID:2648-1756150200-1756161000@oosternieland.nl
SUMMARY:vergadering
DESCRIPTION:
URL:https://oosternieland.nl/agenda/vergadering-activiteitencommissie-3/
LOCATION:Dörpshoes Nijland\, Oosternielandsterweg 41\, Oosternieland\, Oosternieland\, 9985SB\, Nederland
END:VEVENT
BEGIN:VEVENT
DTSTART;TZID=Europe/Amsterdam:20250830T180000
DTEND;TZID=Europe/Amsterdam:20250830T233000
DTSTAMP:20260422T144133
CREATED:20250415T182815Z
LAST-MODIFIED:20250415T182815Z
UID:2467-1756576800-1756596600@oosternieland.nl
SUMMARY:Verhuurd
DESCRIPTION:
URL:https://oosternieland.nl/agenda/verhuurd-5/
LOCATION:Oosternieland
END:VEVENT
END:VCALENDAR