BEGIN:VCALENDAR
VERSION:2.0
PRODID:-// - ECPv6.15.20//NONSGML v1.0//EN
CALSCALE:GREGORIAN
METHOD:PUBLISH
X-ORIGINAL-URL:https://oosternieland.nl
X-WR-CALDESC:Evenementen voor 
REFRESH-INTERVAL;VALUE=DURATION:PT1H
X-Robots-Tag:noindex
X-PUBLISHED-TTL:PT1H
BEGIN:VTIMEZONE
TZID:Europe/Amsterdam
BEGIN:DAYLIGHT
TZOFFSETFROM:+0100
TZOFFSETTO:+0200
TZNAME:CEST
DTSTART:20240331T010000
END:DAYLIGHT
BEGIN:STANDARD
TZOFFSETFROM:+0200
TZOFFSETTO:+0100
TZNAME:CET
DTSTART:20241027T010000
END:STANDARD
BEGIN:DAYLIGHT
TZOFFSETFROM:+0100
TZOFFSETTO:+0200
TZNAME:CEST
DTSTART:20250330T010000
END:DAYLIGHT
BEGIN:STANDARD
TZOFFSETFROM:+0200
TZOFFSETTO:+0100
TZNAME:CET
DTSTART:20251026T010000
END:STANDARD
BEGIN:DAYLIGHT
TZOFFSETFROM:+0100
TZOFFSETTO:+0200
TZNAME:CEST
DTSTART:20260329T010000
END:DAYLIGHT
BEGIN:STANDARD
TZOFFSETFROM:+0200
TZOFFSETTO:+0100
TZNAME:CET
DTSTART:20261025T010000
END:STANDARD
END:VTIMEZONE
BEGIN:VEVENT
DTSTART;TZID=Europe/Amsterdam:20250705T100000
DTEND;TZID=Europe/Amsterdam:20250705T120000
DTSTAMP:20260422T131329
CREATED:20250620T132009Z
LAST-MODIFIED:20250620T132009Z
UID:2669-1751709600-1751716800@oosternieland.nl
SUMMARY:Koffieochtend
DESCRIPTION:van 10-12 staqan koffie\, thee en ranja klaar. Welkom!
URL:https://oosternieland.nl/agenda/koffieochtend-11/
LOCATION:Dörpshoes Nijland\, Oosternielandsterweg 41\, Oosternieland\, Oosternieland\, 9985SB\, Nederland
END:VEVENT
BEGIN:VEVENT
DTSTART;TZID=Europe/Amsterdam:20250705T123000
DTEND;TZID=Europe/Amsterdam:20250705T163000
DTSTAMP:20260422T131329
CREATED:20250123T141531Z
LAST-MODIFIED:20250620T132147Z
UID:2369-1751718600-1751733000@oosternieland.nl
SUMMARY:Cultuur aan het stuur
DESCRIPTION:Koffieochtend van 10-12 \nvanaf 12.45 uur inschrijving  Cultuur aan het stuur. Dorpshuis is startpunt en vanaf 12.45 open voor koffie\, een drankje of hapje.
URL:https://oosternieland.nl/agenda/cultuur-aan-het-stuur-2/
LOCATION:Dörpshoes Nijland\, Oosternielandsterweg 41\, Oosternieland\, Oosternieland\, 9985SB\, Nederland
END:VEVENT
BEGIN:VEVENT
DTSTART;TZID=Europe/Amsterdam:20250705T180000
DTEND;TZID=Europe/Amsterdam:20250705T233000
DTSTAMP:20260422T131329
CREATED:20250615T181226Z
LAST-MODIFIED:20250615T181226Z
UID:2642-1751738400-1751758200@oosternieland.nl
SUMMARY:Verhuur 's  avonds
DESCRIPTION:
URL:https://oosternieland.nl/agenda/verhuur-s-avonds/
LOCATION:Oosternieland
END:VEVENT
BEGIN:VEVENT
DTSTART;TZID=Europe/Amsterdam:20250710T160000
DTEND;TZID=Europe/Amsterdam:20250710T220000
DTSTAMP:20260422T131329
CREATED:20250618T051032Z
LAST-MODIFIED:20250618T051032Z
UID:2660-1752163200-1752184800@oosternieland.nl
SUMMARY:Verhuur (voorlopig)
DESCRIPTION:
URL:https://oosternieland.nl/agenda/verhuur-voorlopig/
LOCATION:Oosternieland
END:VEVENT
BEGIN:VEVENT
DTSTART;TZID=Europe/Amsterdam:20250715T110000
DTEND;TZID=Europe/Amsterdam:20250715T130000
DTSTAMP:20260422T131329
CREATED:20250620T130959Z
LAST-MODIFIED:20250620T130959Z
UID:2663-1752577200-1752584400@oosternieland.nl
SUMMARY:Visje eten
DESCRIPTION:
URL:https://oosternieland.nl/agenda/visje-eten-16/
LOCATION:Dörpshoes Nijland\, Oosternielandsterweg 41\, Oosternieland\, Oosternieland\, 9985SB\, Nederland
END:VEVENT
BEGIN:VEVENT
DTSTART;TZID=Europe/Amsterdam:20250718T170000
DTEND;TZID=Europe/Amsterdam:20250718T200000
DTSTAMP:20260422T131329
CREATED:20250616T203614Z
LAST-MODIFIED:20250616T203614Z
UID:2646-1752858000-1752868800@oosternieland.nl
SUMMARY:laatste VrijMiBo van de zomer
DESCRIPTION:vrijmibo op het begin van de zomervakantie
URL:https://oosternieland.nl/agenda/laatste-vrijmibo-van-de-zomer/
LOCATION:Dörpshoes Nijland\, Oosternielandsterweg 41\, Oosternieland\, Oosternieland\, 9985SB\, Nederland
END:VEVENT
BEGIN:VEVENT
DTSTART;TZID=Europe/Amsterdam:20250719T080000
DTEND;TZID=Europe/Amsterdam:20250719T083000
DTSTAMP:20260422T131329
CREATED:20250429T072805Z
LAST-MODIFIED:20250620T130924Z
UID:2486-1752912000-1752913800@oosternieland.nl
SUMMARY:zomerstop koffieochtend en vrijmibo van 19 juli tot eind augustus
DESCRIPTION:
URL:https://oosternieland.nl/agenda/zomerstop-activiteiten-in-het-dorpshuis-van-16-juli-tot-eind-augustus/
LOCATION:Dörpshoes Nijland\, Oosternielandsterweg 41\, Oosternieland\, Oosternieland\, 9985SB\, Nederland
END:VEVENT
END:VCALENDAR