BEGIN:VCALENDAR
VERSION:2.0
PRODID:-// - ECPv6.15.20//NONSGML v1.0//EN
CALSCALE:GREGORIAN
METHOD:PUBLISH
X-ORIGINAL-URL:https://oosternieland.nl
X-WR-CALDESC:Evenementen voor 
REFRESH-INTERVAL;VALUE=DURATION:PT1H
X-Robots-Tag:noindex
X-PUBLISHED-TTL:PT1H
BEGIN:VTIMEZONE
TZID:Europe/Amsterdam
BEGIN:DAYLIGHT
TZOFFSETFROM:+0100
TZOFFSETTO:+0200
TZNAME:CEST
DTSTART:20240331T010000
END:DAYLIGHT
BEGIN:STANDARD
TZOFFSETFROM:+0200
TZOFFSETTO:+0100
TZNAME:CET
DTSTART:20241027T010000
END:STANDARD
BEGIN:DAYLIGHT
TZOFFSETFROM:+0100
TZOFFSETTO:+0200
TZNAME:CEST
DTSTART:20250330T010000
END:DAYLIGHT
BEGIN:STANDARD
TZOFFSETFROM:+0200
TZOFFSETTO:+0100
TZNAME:CET
DTSTART:20251026T010000
END:STANDARD
BEGIN:DAYLIGHT
TZOFFSETFROM:+0100
TZOFFSETTO:+0200
TZNAME:CEST
DTSTART:20260329T010000
END:DAYLIGHT
BEGIN:STANDARD
TZOFFSETFROM:+0200
TZOFFSETTO:+0100
TZNAME:CET
DTSTART:20261025T010000
END:STANDARD
END:VTIMEZONE
BEGIN:VEVENT
DTSTART;TZID=Europe/Amsterdam:20250104T100000
DTEND;TZID=Europe/Amsterdam:20250104T120000
DTSTAMP:20260422T145606
CREATED:20241127T110653Z
LAST-MODIFIED:20241127T110653Z
UID:2306-1735984800-1735992000@oosternieland.nl
SUMMARY:koffieochtend
DESCRIPTION:koffie\,thee en ranja staan (gratis) klaar van 10-12 uur
URL:https://oosternieland.nl/agenda/koffieochtend-6/
LOCATION:Dörpshoes Nijland\, Oosternielandsterweg 41\, Oosternieland\, Oosternieland\, 9985SB\, Nederland
END:VEVENT
BEGIN:VEVENT
DTSTART;TZID=Europe/Amsterdam:20250104T200000
DTEND;TZID=Europe/Amsterdam:20250104T230000
DTSTAMP:20260422T145606
CREATED:20241029T155155Z
LAST-MODIFIED:20241029T155155Z
UID:2288-1736020800-1736031600@oosternieland.nl
SUMMARY:partyspelletjesavond
DESCRIPTION:jongerenavond
URL:https://oosternieland.nl/agenda/partyspelletjesavond/
LOCATION:Oosternieland
END:VEVENT
BEGIN:VEVENT
DTSTART;TZID=Europe/Amsterdam:20250117T170000
DTEND;TZID=Europe/Amsterdam:20250117T200000
DTSTAMP:20260422T145606
CREATED:20241127T110800Z
LAST-MODIFIED:20241127T110800Z
UID:2308-1737133200-1737144000@oosternieland.nl
SUMMARY:VrijMiBo
DESCRIPTION:welkom bij de borrel van 17.00-20.00 uur
URL:https://oosternieland.nl/agenda/vrijmibo-6/
LOCATION:Dörpshoes Nijland\, Oosternielandsterweg 41\, Oosternieland\, Oosternieland\, 9985SB\, Nederland
END:VEVENT
BEGIN:VEVENT
DTSTART;TZID=Europe/Amsterdam:20250118T170000
DTEND;TZID=Europe/Amsterdam:20250118T230000
DTSTAMP:20260422T145606
CREATED:20241115T083945Z
LAST-MODIFIED:20241115T083945Z
UID:2303-1737219600-1737241200@oosternieland.nl
SUMMARY:Bezet
DESCRIPTION:
URL:https://oosternieland.nl/agenda/bezet/
LOCATION:Oosternieland
END:VEVENT
BEGIN:VEVENT
DTSTART;TZID=Europe/Amsterdam:20250120T193000
DTEND;TZID=Europe/Amsterdam:20250120T213000
DTSTAMP:20260422T145606
CREATED:20241216T174548Z
LAST-MODIFIED:20241216T174548Z
UID:2340-1737401400-1737408600@oosternieland.nl
SUMMARY:vergadering activiteiten commissie
DESCRIPTION:
URL:https://oosternieland.nl/agenda/vergadering-activiteiten-commissie/
LOCATION:Dörpshoes Nijland\, Oosternielandsterweg 41\, Oosternieland\, Oosternieland\, 9985SB\, Nederland
END:VEVENT
BEGIN:VEVENT
DTSTART;TZID=Europe/Amsterdam:20250121T110000
DTEND;TZID=Europe/Amsterdam:20250121T130000
DTSTAMP:20260422T145606
CREATED:20241127T110850Z
LAST-MODIFIED:20241127T110850Z
UID:2310-1737457200-1737464400@oosternieland.nl
SUMMARY:Visje eten
DESCRIPTION:11.00-13.00 uur
URL:https://oosternieland.nl/agenda/visje-eten-7/
LOCATION:Dörpshoes Nijland\, Oosternielandsterweg 41\, Oosternieland\, Oosternieland\, 9985SB\, Nederland
END:VEVENT
BEGIN:VEVENT
DTSTART;TZID=Europe/Amsterdam:20250125T180000
DTEND;TZID=Europe/Amsterdam:20250125T233000
DTSTAMP:20260422T145606
CREATED:20241217T212253Z
LAST-MODIFIED:20250106T083854Z
UID:2342-1737828000-1737847800@oosternieland.nl
SUMMARY:Bezet
DESCRIPTION:
URL:https://oosternieland.nl/agenda/bezet-3/
LOCATION:Oosternieland
END:VEVENT
END:VCALENDAR