BEGIN:VCALENDAR
VERSION:2.0
PRODID:-// - ECPv6.15.20//NONSGML v1.0//EN
CALSCALE:GREGORIAN
METHOD:PUBLISH
X-ORIGINAL-URL:https://oosternieland.nl
X-WR-CALDESC:Evenementen voor 
REFRESH-INTERVAL;VALUE=DURATION:PT1H
X-Robots-Tag:noindex
X-PUBLISHED-TTL:PT1H
BEGIN:VTIMEZONE
TZID:Europe/Amsterdam
BEGIN:DAYLIGHT
TZOFFSETFROM:+0100
TZOFFSETTO:+0200
TZNAME:CEST
DTSTART:20230326T010000
END:DAYLIGHT
BEGIN:STANDARD
TZOFFSETFROM:+0200
TZOFFSETTO:+0100
TZNAME:CET
DTSTART:20231029T010000
END:STANDARD
BEGIN:DAYLIGHT
TZOFFSETFROM:+0100
TZOFFSETTO:+0200
TZNAME:CEST
DTSTART:20240331T010000
END:DAYLIGHT
BEGIN:STANDARD
TZOFFSETFROM:+0200
TZOFFSETTO:+0100
TZNAME:CET
DTSTART:20241027T010000
END:STANDARD
BEGIN:DAYLIGHT
TZOFFSETFROM:+0100
TZOFFSETTO:+0200
TZNAME:CEST
DTSTART:20250330T010000
END:DAYLIGHT
BEGIN:STANDARD
TZOFFSETFROM:+0200
TZOFFSETTO:+0100
TZNAME:CET
DTSTART:20251026T010000
END:STANDARD
END:VTIMEZONE
BEGIN:VEVENT
DTSTART;TZID=Europe/Amsterdam:20240903T150000
DTEND;TZID=Europe/Amsterdam:20240903T170000
DTSTAMP:20260422T202326
CREATED:20240725T135030Z
LAST-MODIFIED:20240725T135030Z
UID:2150-1725375600-1725382800@oosternieland.nl
SUMMARY:pawoz overleg
DESCRIPTION:
URL:https://oosternieland.nl/agenda/pawoz-overleg/
END:VEVENT
BEGIN:VEVENT
DTSTART;TZID=Europe/Amsterdam:20240907T170000
DTEND;TZID=Europe/Amsterdam:20240907T233000
DTSTAMP:20260422T202326
CREATED:20240514T160841Z
LAST-MODIFIED:20240514T161019Z
UID:2112-1725728400-1725751800@oosternieland.nl
SUMMARY:Dorps BBQ
DESCRIPTION:informatie over aanmelden volgt
URL:https://oosternieland.nl/agenda/dorps-bbq/
LOCATION:Dörpshoes Nijland\, Oosternielandsterweg 41\, Oosternieland\, Oosternieland\, 9985SB\, Nederland
END:VEVENT
BEGIN:VEVENT
DTSTART;TZID=Europe/Amsterdam:20240910T110000
DTEND;TZID=Europe/Amsterdam:20240910T130000
DTSTAMP:20260422T202326
CREATED:20240825T153554Z
LAST-MODIFIED:20240825T153554Z
UID:2166-1725966000-1725973200@oosternieland.nl
SUMMARY:vergadering programma aardbevingen
DESCRIPTION:
URL:https://oosternieland.nl/agenda/vergadering-programma-aardbevingen/
END:VEVENT
BEGIN:VEVENT
DTSTART;TZID=Europe/Amsterdam:20240917T110000
DTEND;TZID=Europe/Amsterdam:20240917T130000
DTSTAMP:20260422T202326
CREATED:20240618T174415Z
LAST-MODIFIED:20240907T074256Z
UID:2125-1726570800-1726578000@oosternieland.nl
SUMMARY:Visje eten
DESCRIPTION:
URL:https://oosternieland.nl/agenda/visje-eten-3/
LOCATION:Dörpshoes Nijland\, Oosternielandsterweg 41\, Oosternieland\, Oosternieland\, 9985SB\, Nederland
END:VEVENT
BEGIN:VEVENT
DTSTART;TZID=Europe/Amsterdam:20240920T170000
DTEND;TZID=Europe/Amsterdam:20240920T200000
DTSTAMP:20260422T202326
CREATED:20240701T113613Z
LAST-MODIFIED:20240701T113613Z
UID:2133-1726851600-1726862400@oosternieland.nl
SUMMARY:VrijMiBo
DESCRIPTION:Dé vrijdagmiddagborrel voor Nijland
URL:https://oosternieland.nl/agenda/vrijmibo/
LOCATION:Dörpshoes Nijland\, Oosternielandsterweg 41\, Oosternieland\, Oosternieland\, 9985SB\, Nederland
END:VEVENT
BEGIN:VEVENT
DTSTART;TZID=Europe/Amsterdam:20240921T100000
DTEND;TZID=Europe/Amsterdam:20240921T150000
DTSTAMP:20260422T202326
CREATED:20240805T165941Z
LAST-MODIFIED:20240918T211826Z
UID:2155-1726912800-1726930800@oosternieland.nl
SUMMARY:Pomologische vereniging
DESCRIPTION:ent- en determineerdag
URL:https://oosternieland.nl/agenda/polomologische-vereniging/
END:VEVENT
BEGIN:VEVENT
DTSTART;TZID=Europe/Amsterdam:20240924T150000
DTEND;TZID=Europe/Amsterdam:20240924T170000
DTSTAMP:20260422T202326
CREATED:20240911T071529Z
LAST-MODIFIED:20240911T071529Z
UID:2179-1727190000-1727197200@oosternieland.nl
SUMMARY:vergadering programma aardbevingen
DESCRIPTION:
URL:https://oosternieland.nl/agenda/vergadering-programma-aardbevingen-2/
END:VEVENT
BEGIN:VEVENT
DTSTART;TZID=Europe/Amsterdam:20240925T193000
DTEND;TZID=Europe/Amsterdam:20240925T220000
DTSTAMP:20260422T202326
CREATED:20240904T073309Z
LAST-MODIFIED:20240904T073409Z
UID:2171-1727292600-1727301600@oosternieland.nl
SUMMARY:dorpsbijeenkomst
DESCRIPTION:Pilot gebiedsgerichte aanpak aardbevingen
URL:https://oosternieland.nl/agenda/dorpsbijeenkomst/
END:VEVENT
END:VCALENDAR