BEGIN:VCALENDAR
VERSION:2.0
PRODID:-// - ECPv6.15.20//NONSGML v1.0//EN
CALSCALE:GREGORIAN
METHOD:PUBLISH
X-ORIGINAL-URL:https://oosternieland.nl
X-WR-CALDESC:Evenementen voor 
REFRESH-INTERVAL;VALUE=DURATION:PT1H
X-Robots-Tag:noindex
X-PUBLISHED-TTL:PT1H
BEGIN:VTIMEZONE
TZID:Europe/Amsterdam
BEGIN:DAYLIGHT
TZOFFSETFROM:+0100
TZOFFSETTO:+0200
TZNAME:CEST
DTSTART:20230326T010000
END:DAYLIGHT
BEGIN:STANDARD
TZOFFSETFROM:+0200
TZOFFSETTO:+0100
TZNAME:CET
DTSTART:20231029T010000
END:STANDARD
BEGIN:DAYLIGHT
TZOFFSETFROM:+0100
TZOFFSETTO:+0200
TZNAME:CEST
DTSTART:20240331T010000
END:DAYLIGHT
BEGIN:STANDARD
TZOFFSETFROM:+0200
TZOFFSETTO:+0100
TZNAME:CET
DTSTART:20241027T010000
END:STANDARD
BEGIN:DAYLIGHT
TZOFFSETFROM:+0100
TZOFFSETTO:+0200
TZNAME:CEST
DTSTART:20250330T010000
END:DAYLIGHT
BEGIN:STANDARD
TZOFFSETFROM:+0200
TZOFFSETTO:+0100
TZNAME:CET
DTSTART:20251026T010000
END:STANDARD
END:VTIMEZONE
BEGIN:VEVENT
DTSTART;TZID=Europe/Amsterdam:20240601T100000
DTEND;TZID=Europe/Amsterdam:20240601T120000
DTSTAMP:20260423T001910
CREATED:20240503T132225Z
LAST-MODIFIED:20240503T132225Z
UID:2075-1717236000-1717243200@oosternieland.nl
SUMMARY:Koffieochtend
DESCRIPTION:gezellig een kopje drinken en bijkletsen met dorpsbewoners. De koffie\, thee\, en ranja staan (gratis) klaar tussen 10 en 12 uur
URL:https://oosternieland.nl/agenda/koffieochtend-2/
LOCATION:Dörpshoes Nijland\, Oosternielandsterweg 41\, Oosternieland\, Oosternieland\, 9985SB\, Nederland
END:VEVENT
BEGIN:VEVENT
DTSTART;TZID=Europe/Amsterdam:20240607T180000
DTEND;TZID=Europe/Amsterdam:20240607T233000
DTSTAMP:20260423T001910
CREATED:20240514T155636Z
LAST-MODIFIED:20241028T071742Z
UID:2102-1717783200-1717803000@oosternieland.nl
SUMMARY:bezet
DESCRIPTION:
URL:https://oosternieland.nl/agenda/verhuurd-2/
END:VEVENT
BEGIN:VEVENT
DTSTART;TZID=Europe/Amsterdam:20240611T193000
DTEND;TZID=Europe/Amsterdam:20240611T223000
DTSTAMP:20260423T001910
CREATED:20240516T091123Z
LAST-MODIFIED:20240516T091123Z
UID:2115-1718134200-1718145000@oosternieland.nl
SUMMARY:Dorpshuis bezet
DESCRIPTION:
URL:https://oosternieland.nl/agenda/dorpshuis-bezet-2/
LOCATION:Dörpshoes Nijland\, Oosternielandsterweg 41\, Oosternieland\, Oosternieland\, 9985SB\, Nederland
END:VEVENT
BEGIN:VEVENT
DTSTART;TZID=Europe/Amsterdam:20240615T120000
DTEND;TZID=Europe/Amsterdam:20240615T180000
DTSTAMP:20260423T001910
CREATED:20240514T155726Z
LAST-MODIFIED:20241028T071647Z
UID:2104-1718452800-1718474400@oosternieland.nl
SUMMARY:bezet
DESCRIPTION:
URL:https://oosternieland.nl/agenda/verhuurd-3/
END:VEVENT
BEGIN:VEVENT
DTSTART;TZID=Europe/Amsterdam:20240617T193000
DTEND;TZID=Europe/Amsterdam:20240617T220000
DTSTAMP:20260423T001910
CREATED:20240514T160056Z
LAST-MODIFIED:20240514T160056Z
UID:2108-1718652600-1718661600@oosternieland.nl
SUMMARY:dorpshuis bezet
DESCRIPTION:
URL:https://oosternieland.nl/agenda/dorpshuis-bezet/
END:VEVENT
BEGIN:VEVENT
DTSTART;TZID=Europe/Amsterdam:20240621T200000
DTEND;TZID=Europe/Amsterdam:20240621T230000
DTSTAMP:20260423T001910
CREATED:20240506T140916Z
LAST-MODIFIED:20240618T173828Z
UID:2087-1719000000-1719010800@oosternieland.nl
SUMMARY:VrijMiBo wordt Oranjeborrel/dresscode : ORANJE
DESCRIPTION:aanvang 20.00
URL:https://oosternieland.nl/agenda/vrijmibo-wordt-oranjeborrel/
LOCATION:Dörpshoes Nijland\, Oosternielandsterweg 41\, Oosternieland\, Oosternieland\, 9985SB\, Nederland
END:VEVENT
BEGIN:VEVENT
DTSTART;TZID=Europe/Amsterdam:20240622T100000
DTEND;TZID=Europe/Amsterdam:20240622T160000
DTSTAMP:20260423T001910
CREATED:20240506T140659Z
LAST-MODIFIED:20240506T140659Z
UID:2085-1719050400-1719072000@oosternieland.nl
SUMMARY:Cultuur aan het Stuur
DESCRIPTION:informatie volgt
URL:https://oosternieland.nl/agenda/cultuur-aan-het-stuur/
LOCATION:Dörpshoes Nijland\, Oosternielandsterweg 41\, Oosternieland\, Oosternieland\, 9985SB\, Nederland
END:VEVENT
BEGIN:VEVENT
DTSTART;TZID=Europe/Amsterdam:20240629T180000
DTEND;TZID=Europe/Amsterdam:20240629T233000
DTSTAMP:20260423T001910
CREATED:20240514T155810Z
LAST-MODIFIED:20241028T071538Z
UID:2106-1719684000-1719703800@oosternieland.nl
SUMMARY:bezet
DESCRIPTION:
URL:https://oosternieland.nl/agenda/verhuurd-4/
END:VEVENT
END:VCALENDAR