BEGIN:VCALENDAR
VERSION:2.0
PRODID:-// - ECPv6.15.20//NONSGML v1.0//EN
CALSCALE:GREGORIAN
METHOD:PUBLISH
X-ORIGINAL-URL:https://oosternieland.nl
X-WR-CALDESC:Evenementen voor 
REFRESH-INTERVAL;VALUE=DURATION:PT1H
X-Robots-Tag:noindex
X-PUBLISHED-TTL:PT1H
BEGIN:VTIMEZONE
TZID:Europe/Amsterdam
BEGIN:DAYLIGHT
TZOFFSETFROM:+0100
TZOFFSETTO:+0200
TZNAME:CEST
DTSTART:20230326T010000
END:DAYLIGHT
BEGIN:STANDARD
TZOFFSETFROM:+0200
TZOFFSETTO:+0100
TZNAME:CET
DTSTART:20231029T010000
END:STANDARD
BEGIN:DAYLIGHT
TZOFFSETFROM:+0100
TZOFFSETTO:+0200
TZNAME:CEST
DTSTART:20240331T010000
END:DAYLIGHT
BEGIN:STANDARD
TZOFFSETFROM:+0200
TZOFFSETTO:+0100
TZNAME:CET
DTSTART:20241027T010000
END:STANDARD
BEGIN:DAYLIGHT
TZOFFSETFROM:+0100
TZOFFSETTO:+0200
TZNAME:CEST
DTSTART:20250330T010000
END:DAYLIGHT
BEGIN:STANDARD
TZOFFSETFROM:+0200
TZOFFSETTO:+0100
TZNAME:CET
DTSTART:20251026T010000
END:STANDARD
END:VTIMEZONE
BEGIN:VEVENT
DTSTART;TZID=Europe/Amsterdam:20240504T100000
DTEND;TZID=Europe/Amsterdam:20240504T120000
DTSTAMP:20260423T014459
CREATED:20240423T151400Z
LAST-MODIFIED:20240423T151512Z
UID:1988-1714816800-1714824000@oosternieland.nl
SUMMARY:Koffieochtend
DESCRIPTION:gezellig een kopje drinken en bijkletsen met dorpsbewoners. De koffie\, thee\, en ranja staan (gratis) klaar tussen 10 en 12 uur
URL:https://oosternieland.nl/agenda/koffieochtend/
LOCATION:Dörpshoes Nijland\, Oosternielandsterweg 41\, Oosternieland\, Oosternieland\, 9985SB\, Nederland
END:VEVENT
BEGIN:VEVENT
DTSTART;TZID=Europe/Amsterdam:20240513T193000
DTEND;TZID=Europe/Amsterdam:20240513T220000
DTSTAMP:20260423T014459
CREATED:20240423T153143Z
LAST-MODIFIED:20240423T153603Z
UID:1999-1715628600-1715637600@oosternieland.nl
SUMMARY:Dorpshuis bezet
DESCRIPTION:
URL:https://oosternieland.nl/agenda/dorpshuis-bezet-s-avonds/
LOCATION:Dörpshoes Nijland\, Oosternielandsterweg 41\, Oosternieland\, Oosternieland\, 9985SB\, Nederland
END:VEVENT
BEGIN:VEVENT
DTSTART;TZID=Europe/Amsterdam:20240517T170000
DTEND;TZID=Europe/Amsterdam:20240517T200000
DTSTAMP:20260423T014459
CREATED:20240423T151737Z
LAST-MODIFIED:20240423T151737Z
UID:1991-1715965200-1715976000@oosternieland.nl
SUMMARY:VrijMiBo van 17.00-20.00 uur
DESCRIPTION:3e vrijdag van de maand = VrijMiBo ! Welkom tussen 5 en 8 uur !
URL:https://oosternieland.nl/agenda/vrijmibo-van-17-00-20-00-uur/
LOCATION:Dörpshoes Nijland\, Oosternielandsterweg 41\, Oosternieland\, Oosternieland\, 9985SB\, Nederland
END:VEVENT
BEGIN:VEVENT
DTSTART;TZID=Europe/Amsterdam:20240521T110000
DTEND;TZID=Europe/Amsterdam:20240521T130000
DTSTAMP:20260423T014459
CREATED:20240424T183216Z
LAST-MODIFIED:20240424T183216Z
UID:2008-1716289200-1716296400@oosternieland.nl
SUMMARY:Visje eten
DESCRIPTION:
URL:https://oosternieland.nl/agenda/visje-eten-2/
LOCATION:Dörpshoes Nijland\, Oosternielandsterweg 41\, Oosternieland\, Oosternieland\, 9985SB\, Nederland
END:VEVENT
BEGIN:VEVENT
DTSTART;TZID=Europe/Amsterdam:20240525T100000
DTEND;TZID=Europe/Amsterdam:20240525T140000
DTSTAMP:20260423T014459
CREATED:20240501T141752Z
LAST-MODIFIED:20240501T154122Z
UID:2045-1716631200-1716645600@oosternieland.nl
SUMMARY:Opritverkoop
DESCRIPTION:Oprit verkoop Oosternieland\n25 mei\nVan 10.00 tot 14.00 \nDörpshoes Nijland is geopend voor een hapje en een\ndrankje\, en voor de kinderen is er een springkussen.
URL:https://oosternieland.nl/agenda/opritverkoop/
LOCATION:Dörpshoes Nijland\, Oosternielandsterweg 41\, Oosternieland\, Oosternieland\, 9985SB\, Nederland
END:VEVENT
BEGIN:VEVENT
DTSTART;TZID=Europe/Amsterdam:20240526T143000
DTEND;TZID=Europe/Amsterdam:20240526T163000
DTSTAMP:20260423T014459
CREATED:20240503T131938Z
LAST-MODIFIED:20240503T131938Z
UID:2072-1716733800-1716741000@oosternieland.nl
SUMMARY:Optreden Stefan Kluin
DESCRIPTION:
URL:https://oosternieland.nl/agenda/optreden-stefan-kluin/
LOCATION:Dörpshoes Nijland\, Oosternielandsterweg 41\, Oosternieland\, Oosternieland\, 9985SB\, Nederland
END:VEVENT
END:VCALENDAR