BEGIN:VCALENDAR
VERSION:2.0
PRODID:-// - ECPv6.15.20//NONSGML v1.0//EN
CALSCALE:GREGORIAN
METHOD:PUBLISH
X-ORIGINAL-URL:https://oosternieland.nl
X-WR-CALDESC:Evenementen voor 
REFRESH-INTERVAL;VALUE=DURATION:PT1H
X-Robots-Tag:noindex
X-PUBLISHED-TTL:PT1H
BEGIN:VTIMEZONE
TZID:Europe/Amsterdam
BEGIN:DAYLIGHT
TZOFFSETFROM:+0100
TZOFFSETTO:+0200
TZNAME:CEST
DTSTART:20230326T010000
END:DAYLIGHT
BEGIN:STANDARD
TZOFFSETFROM:+0200
TZOFFSETTO:+0100
TZNAME:CET
DTSTART:20231029T010000
END:STANDARD
BEGIN:DAYLIGHT
TZOFFSETFROM:+0100
TZOFFSETTO:+0200
TZNAME:CEST
DTSTART:20240331T010000
END:DAYLIGHT
BEGIN:STANDARD
TZOFFSETFROM:+0200
TZOFFSETTO:+0100
TZNAME:CET
DTSTART:20241027T010000
END:STANDARD
BEGIN:DAYLIGHT
TZOFFSETFROM:+0100
TZOFFSETTO:+0200
TZNAME:CEST
DTSTART:20250330T010000
END:DAYLIGHT
BEGIN:STANDARD
TZOFFSETFROM:+0200
TZOFFSETTO:+0100
TZNAME:CET
DTSTART:20251026T010000
END:STANDARD
END:VTIMEZONE
BEGIN:VEVENT
DTSTART;TZID=Europe/Amsterdam:20240416T110000
DTEND;TZID=Europe/Amsterdam:20240416T130000
DTSTAMP:20260423T030706
CREATED:20240414T102844Z
LAST-MODIFIED:20240414T103441Z
UID:1965-1713265200-1713272400@oosternieland.nl
SUMMARY:Visje eten
DESCRIPTION:Informatie over visje eten \n 
URL:https://oosternieland.nl/agenda/visje-eten/
LOCATION:Dörpshoes Nijland\, Oosternielandsterweg 41\, Oosternieland\, Oosternieland\, 9985SB\, Nederland
ORGANIZER;CN="Dorpsbelangen":MAILTO:oosternieland@outlook.com
END:VEVENT
BEGIN:VEVENT
DTSTART;TZID=Europe/Amsterdam:20240419T170000
DTEND;TZID=Europe/Amsterdam:20240419T190000
DTSTAMP:20260423T030706
CREATED:20240417T141904Z
LAST-MODIFIED:20240417T141904Z
UID:1985-1713546000-1713553200@oosternieland.nl
SUMMARY:VrijMiBo vrijdagmiddagborrel
DESCRIPTION:van 17.00-19.00 uur  in het Dorpshuis
URL:https://oosternieland.nl/agenda/vrijmibo-vrijdagmiddagborrel/
LOCATION:Dörpshoes Nijland\, Oosternielandsterweg 41\, Oosternieland\, Oosternieland\, 9985SB\, Nederland
END:VEVENT
BEGIN:VEVENT
DTSTART;TZID=Europe/Amsterdam:20240427T080000
DTEND;TZID=Europe/Amsterdam:20240427T150000
DTSTAMP:20260423T030706
CREATED:20240423T152450Z
LAST-MODIFIED:20240424T182706Z
UID:1994-1714204800-1714230000@oosternieland.nl
SUMMARY:Koningsdag in Dörpshoes Nijland
DESCRIPTION:flyer koningsdag https://oosternieland.nl/event/koningsdag-in-dorpshoes-nijland/
URL:https://oosternieland.nl/agenda/koningsdag-in-dorpshoes-nijland/
LOCATION:Dörpshoes Nijland\, Oosternielandsterweg 41\, Oosternieland\, Oosternieland\, 9985SB\, Nederland
END:VEVENT
END:VCALENDAR